BEGIN:VCALENDAR
VERSION:2.0
PRODID:-//Cypress Lakes CC at Ormond - ECPv6.15.18//NONSGML v1.0//EN
CALSCALE:GREGORIAN
METHOD:PUBLISH
X-ORIGINAL-URL:https://www.cypresslakescc.com
X-WR-CALDESC:Events for Cypress Lakes CC at Ormond
REFRESH-INTERVAL;VALUE=DURATION:PT1H
X-Robots-Tag:noindex
X-PUBLISHED-TTL:PT1H
BEGIN:VTIMEZONE
TZID:UTC
BEGIN:STANDARD
TZOFFSETFROM:+0000
TZOFFSETTO:+0000
TZNAME:UTC
DTSTART:20240101T000000
END:STANDARD
END:VTIMEZONE
BEGIN:VEVENT
DTSTART;VALUE=DATE:20250322
DTEND;VALUE=DATE:20250323
DTSTAMP:20260422T122925
CREATED:20250108T184800Z
LAST-MODIFIED:20250314T122435Z
UID:10000170-1742601600-1742687999@www.cypresslakescc.com
SUMMARY:Irish/Italian Golf Tournament
DESCRIPTION:Join us for our 2025 Irish Italian Golf Tournament \n  \nGolfers will play in teams of 2 \n  \nUSGA Handicap Required! You can participate without a handicap\, but you will be required to play as a scratch. \n  \nHoles 1-9 will keep both scores \nHoles 10-18 will be best ball \n  \nEntry fees will be posted to member accounts for teams of 2 members and teams of one member & guest. \nPayment will be collected on the day of the tournament for teams consisting of 2 guests. Cash is preferred\, but we accept checks\, credit cards\, and apple tap to pay.
URL:https://www.cypresslakescc.com/event/irish-italian-golf-pickleball-tournament/
END:VEVENT
END:VCALENDAR