BEGIN:VCALENDAR
VERSION:2.0
PRODID:-//Cypress Lakes CC at Ormond - ECPv6.15.18//NONSGML v1.0//EN
CALSCALE:GREGORIAN
METHOD:PUBLISH
X-WR-CALNAME:Cypress Lakes CC at Ormond
X-ORIGINAL-URL:https://www.cypresslakescc.com
X-WR-CALDESC:Events for Cypress Lakes CC at Ormond
REFRESH-INTERVAL;VALUE=DURATION:PT1H
X-Robots-Tag:noindex
X-PUBLISHED-TTL:PT1H
BEGIN:VTIMEZONE
TZID:UTC
BEGIN:STANDARD
TZOFFSETFROM:+0000
TZOFFSETTO:+0000
TZNAME:UTC
DTSTART:20240101T000000
END:STANDARD
END:VTIMEZONE
BEGIN:VEVENT
DTSTART;TZID=UTC:20250329T083000
DTEND;TZID=UTC:20250329T103000
DTSTAMP:20260422T122856
CREATED:20260128T173923Z
LAST-MODIFIED:20260128T173923Z
UID:10000252-1743237000-1743244200@www.cypresslakescc.com
SUMMARY:Finn McCools Golf Club
DESCRIPTION:
URL:https://www.cypresslakescc.com/event/finn-mccools-golf-club-4/
END:VEVENT
END:VCALENDAR