BEGIN:VCALENDAR
VERSION:2.0
PRODID:-//Cypress Lakes CC at Ormond - ECPv6.15.18//NONSGML v1.0//EN
CALSCALE:GREGORIAN
METHOD:PUBLISH
X-ORIGINAL-URL:https://www.cypresslakescc.com
X-WR-CALDESC:Events for Cypress Lakes CC at Ormond
REFRESH-INTERVAL;VALUE=DURATION:PT1H
X-Robots-Tag:noindex
X-PUBLISHED-TTL:PT1H
BEGIN:VTIMEZONE
TZID:UTC
BEGIN:STANDARD
TZOFFSETFROM:+0000
TZOFFSETTO:+0000
TZNAME:UTC
DTSTART:20240101T000000
END:STANDARD
END:VTIMEZONE
BEGIN:VEVENT
DTSTART;TZID=UTC:20250401T143000
DTEND;TZID=UTC:20250401T170000
DTSTAMP:20260422T090011
CREATED:20250217T222555Z
LAST-MODIFIED:20250217T222555Z
UID:10000183-1743517800-1743526800@www.cypresslakescc.com
SUMMARY:SCC TENNIS MATCH
DESCRIPTION:
URL:https://www.cypresslakescc.com/event/scc-tennis-match-2/2025-04-01/
END:VEVENT
END:VCALENDAR