BEGIN:VCALENDAR
VERSION:2.0
PRODID:-//Cypress Lakes CC at Ormond - ECPv6.15.18//NONSGML v1.0//EN
CALSCALE:GREGORIAN
METHOD:PUBLISH
X-ORIGINAL-URL:https://www.cypresslakescc.com
X-WR-CALDESC:Events for Cypress Lakes CC at Ormond
REFRESH-INTERVAL;VALUE=DURATION:PT1H
X-Robots-Tag:noindex
X-PUBLISHED-TTL:PT1H
BEGIN:VTIMEZONE
TZID:UTC
BEGIN:STANDARD
TZOFFSETFROM:+0000
TZOFFSETTO:+0000
TZNAME:UTC
DTSTART:20250101T000000
END:STANDARD
END:VTIMEZONE
BEGIN:VEVENT
DTSTART;TZID=UTC:20260303T153000
DTEND;TZID=UTC:20260303T180000
DTSTAMP:20260421T125448
CREATED:20251218T165953Z
LAST-MODIFIED:20251218T165953Z
UID:10000230-1772551800-1772560800@www.cypresslakescc.com
SUMMARY:SCC Golf Match
DESCRIPTION:
URL:https://www.cypresslakescc.com/event/scc-golf-match-3/
END:VEVENT
END:VCALENDAR