BEGIN:VCALENDAR
VERSION:2.0
PRODID:-//Cypress Lakes CC at Ormond - ECPv6.15.18//NONSGML v1.0//EN
CALSCALE:GREGORIAN
METHOD:PUBLISH
X-ORIGINAL-URL:https://www.cypresslakescc.com
X-WR-CALDESC:Events for Cypress Lakes CC at Ormond
REFRESH-INTERVAL;VALUE=DURATION:PT1H
X-Robots-Tag:noindex
X-PUBLISHED-TTL:PT1H
BEGIN:VTIMEZONE
TZID:UTC
BEGIN:STANDARD
TZOFFSETFROM:+0000
TZOFFSETTO:+0000
TZNAME:UTC
DTSTART:20250101T000000
END:STANDARD
END:VTIMEZONE
BEGIN:VEVENT
DTSTART;TZID=UTC:20260305T143000
DTEND;TZID=UTC:20260305T170000
DTSTAMP:20260421T172549
CREATED:20251218T165906Z
LAST-MODIFIED:20251218T165906Z
UID:10000229-1772721000-1772730000@www.cypresslakescc.com
SUMMARY:DHS Girls Match
DESCRIPTION:
URL:https://www.cypresslakescc.com/event/dhs-girls-match/
END:VEVENT
BEGIN:VEVENT
DTSTART;TZID=UTC:20260305T150000
DTEND;TZID=UTC:20260305T170000
DTSTAMP:20260421T172549
CREATED:20260114T181805Z
LAST-MODIFIED:20260114T181805Z
UID:10000247-1772722800-1772730000@www.cypresslakescc.com
SUMMARY:SCC Tennis Match
DESCRIPTION:
URL:https://www.cypresslakescc.com/event/scc-tennis-match-3/2026-03-05/
END:VEVENT
END:VCALENDAR