BEGIN:VCALENDAR
VERSION:2.0
PRODID:-//Cypress Lakes CC at Ormond - ECPv6.15.18//NONSGML v1.0//EN
CALSCALE:GREGORIAN
METHOD:PUBLISH
X-ORIGINAL-URL:https://www.cypresslakescc.com
X-WR-CALDESC:Events for Cypress Lakes CC at Ormond
REFRESH-INTERVAL;VALUE=DURATION:PT1H
X-Robots-Tag:noindex
X-PUBLISHED-TTL:PT1H
BEGIN:VTIMEZONE
TZID:UTC
BEGIN:STANDARD
TZOFFSETFROM:+0000
TZOFFSETTO:+0000
TZNAME:UTC
DTSTART:20250101T000000
END:STANDARD
END:VTIMEZONE
BEGIN:VEVENT
DTSTART;VALUE=DATE:20261014
DTEND;VALUE=DATE:20261015
DTSTAMP:20260423T195456
CREATED:20251023T145012Z
LAST-MODIFIED:20251023T145012Z
UID:10000210-1791936000-1792022399@www.cypresslakescc.com
SUMMARY:All Star Foundation
DESCRIPTION:
URL:https://www.cypresslakescc.com/event/all-star-foundation-4/
END:VEVENT
END:VCALENDAR