BEGIN:VCALENDAR
VERSION:2.0
PRODID:-//Cypress Lakes CC at Ormond - ECPv6.15.18//NONSGML v1.0//EN
CALSCALE:GREGORIAN
METHOD:PUBLISH
X-WR-CALNAME:Cypress Lakes CC at Ormond
X-ORIGINAL-URL:https://www.cypresslakescc.com
X-WR-CALDESC:Events for Cypress Lakes CC at Ormond
REFRESH-INTERVAL;VALUE=DURATION:PT1H
X-Robots-Tag:noindex
X-PUBLISHED-TTL:PT1H
BEGIN:VTIMEZONE
TZID:UTC
BEGIN:STANDARD
TZOFFSETFROM:+0000
TZOFFSETTO:+0000
TZNAME:UTC
DTSTART:20220101T000000
END:STANDARD
END:VTIMEZONE
BEGIN:VEVENT
DTSTART;TZID=UTC:20230927T173000
DTEND;TZID=UTC:20230927T193000
DTSTAMP:20260423T093925
CREATED:20230919T222731Z
LAST-MODIFIED:20231003T194126Z
UID:10000015-1695835800-1695843000@www.cypresslakescc.com
SUMMARY:Wednesday Golf League
DESCRIPTION:2 Person Best Ball + SKINS Game \nClick Here to Register \nOpen to general public!
URL:https://www.cypresslakescc.com/event/wednesday-golf-league/2023-09-27/
END:VEVENT
BEGIN:VEVENT
DTSTART;TZID=UTC:20230920T173000
DTEND;TZID=UTC:20230920T193000
DTSTAMP:20260423T093925
CREATED:20230919T222731Z
LAST-MODIFIED:20231003T194126Z
UID:10000014-1695231000-1695238200@www.cypresslakescc.com
SUMMARY:Wednesday Golf League
DESCRIPTION:2 Person Best Ball + SKINS Game \nClick Here to Register \nOpen to general public!
URL:https://www.cypresslakescc.com/event/wednesday-golf-league/2023-09-20/2/
END:VEVENT
BEGIN:VEVENT
DTSTART;TZID=UTC:20230920T080000
DTEND;TZID=UTC:20230920T170000
DTSTAMP:20260423T093925
CREATED:20230919T222731Z
LAST-MODIFIED:20231003T194126Z
UID:10000073-1695196800-1695229200@www.cypresslakescc.com
SUMMARY:Wednesday Golf League
DESCRIPTION:2 Person Best Ball + SKINS Game \nClick Here to Register \nOpen to general public!
URL:https://www.cypresslakescc.com/event/wednesday-golf-league/2023-09-20/1/
END:VEVENT
BEGIN:VEVENT
DTSTART;TZID=UTC:20230803T080000
DTEND;TZID=UTC:20230803T120000
DTSTAMP:20260423T093925
CREATED:20230803T171224Z
LAST-MODIFIED:20230803T171224Z
UID:10000009-1691049600-1691064000@www.cypresslakescc.com
SUMMARY:Finn McCools
DESCRIPTION:
URL:https://www.cypresslakescc.com/event/finn-mccools/
END:VEVENT
END:VCALENDAR