BEGIN:VCALENDAR
VERSION:2.0
PRODID:-//Cypress Lakes CC at Ormond - ECPv6.15.18//NONSGML v1.0//EN
CALSCALE:GREGORIAN
METHOD:PUBLISH
X-WR-CALNAME:Cypress Lakes CC at Ormond
X-ORIGINAL-URL:https://www.cypresslakescc.com
X-WR-CALDESC:Events for Cypress Lakes CC at Ormond
REFRESH-INTERVAL;VALUE=DURATION:PT1H
X-Robots-Tag:noindex
X-PUBLISHED-TTL:PT1H
BEGIN:VTIMEZONE
TZID:UTC
BEGIN:STANDARD
TZOFFSETFROM:+0000
TZOFFSETTO:+0000
TZNAME:UTC
DTSTART:20230101T000000
END:STANDARD
END:VTIMEZONE
BEGIN:VEVENT
DTSTART;VALUE=DATE:20240405
DTEND;VALUE=DATE:20240406
DTSTAMP:20260425T214638
CREATED:20230803T155250Z
LAST-MODIFIED:20230803T155250Z
UID:10000008-1712275200-1712361599@www.cypresslakescc.com
SUMMARY:GEAPS
DESCRIPTION:
URL:https://www.cypresslakescc.com/event/geaps/
END:VEVENT
BEGIN:VEVENT
DTSTART;TZID=UTC:20240406T090000
DTEND;TZID=UTC:20240406T120000
DTSTAMP:20260425T214638
CREATED:20231212T163826Z
LAST-MODIFIED:20231212T163826Z
UID:10000087-1712394000-1712404800@www.cypresslakescc.com
SUMMARY:SLAGS
DESCRIPTION:
URL:https://www.cypresslakescc.com/event/slags/2024-04-06/
END:VEVENT
BEGIN:VEVENT
DTSTART;TZID=UTC:20240411T160000
DTEND;TZID=UTC:20240411T180000
DTSTAMP:20260425T214638
CREATED:20240130T165045Z
LAST-MODIFIED:20240130T165309Z
UID:10000105-1712851200-1712858400@www.cypresslakescc.com
SUMMARY:Valero Golf League
DESCRIPTION:
URL:https://www.cypresslakescc.com/event/valero-golf-league/2024-04-11/
END:VEVENT
BEGIN:VEVENT
DTSTART;TZID=UTC:20240413T090000
DTEND;TZID=UTC:20240413T120000
DTSTAMP:20260425T214638
CREATED:20231212T163826Z
LAST-MODIFIED:20231212T163826Z
UID:10000088-1712998800-1713009600@www.cypresslakescc.com
SUMMARY:SLAGS
DESCRIPTION:
URL:https://www.cypresslakescc.com/event/slags/2024-04-13/
END:VEVENT
BEGIN:VEVENT
DTSTART;VALUE=DATE:20240416
DTEND;VALUE=DATE:20240417
DTSTAMP:20260425T214639
CREATED:20231220T160040Z
LAST-MODIFIED:20231220T160040Z
UID:10000092-1713225600-1713311999@www.cypresslakescc.com
SUMMARY:District Golf Tournament
DESCRIPTION:
URL:https://www.cypresslakescc.com/event/district-golf-tournament/
END:VEVENT
BEGIN:VEVENT
DTSTART;TZID=UTC:20240418T160000
DTEND;TZID=UTC:20240418T180000
DTSTAMP:20260425T214639
CREATED:20240130T165045Z
LAST-MODIFIED:20240130T165309Z
UID:10000106-1713456000-1713463200@www.cypresslakescc.com
SUMMARY:Valero Golf League
DESCRIPTION:
URL:https://www.cypresslakescc.com/event/valero-golf-league/2024-04-18/
END:VEVENT
BEGIN:VEVENT
DTSTART;VALUE=DATE:20240419
DTEND;VALUE=DATE:20240420
DTSTAMP:20260425T214639
CREATED:20231010T170249Z
LAST-MODIFIED:20231010T170249Z
UID:10000077-1713484800-1713571199@www.cypresslakescc.com
SUMMARY:DHS Football
DESCRIPTION:
URL:https://www.cypresslakescc.com/event/dhs-football/
END:VEVENT
BEGIN:VEVENT
DTSTART;TZID=UTC:20240420T083000
DTEND;TZID=UTC:20240420T130000
DTSTAMP:20260425T214639
CREATED:20240119T205311Z
LAST-MODIFIED:20240119T205311Z
UID:10000101-1713601800-1713618000@www.cypresslakescc.com
SUMMARY:Laitram
DESCRIPTION:
URL:https://www.cypresslakescc.com/event/laitram/
END:VEVENT
BEGIN:VEVENT
DTSTART;TZID=UTC:20240425T160000
DTEND;TZID=UTC:20240425T180000
DTSTAMP:20260425T214639
CREATED:20240130T165045Z
LAST-MODIFIED:20240130T165309Z
UID:10000107-1714060800-1714068000@www.cypresslakescc.com
SUMMARY:Valero Golf League
DESCRIPTION:
URL:https://www.cypresslakescc.com/event/valero-golf-league/2024-04-25/
END:VEVENT
END:VCALENDAR