BEGIN:VCALENDAR
VERSION:2.0
PRODID:-//Cypress Lakes CC at Ormond - ECPv6.15.18//NONSGML v1.0//EN
CALSCALE:GREGORIAN
METHOD:PUBLISH
X-WR-CALNAME:Cypress Lakes CC at Ormond
X-ORIGINAL-URL:https://www.cypresslakescc.com
X-WR-CALDESC:Events for Cypress Lakes CC at Ormond
REFRESH-INTERVAL;VALUE=DURATION:PT1H
X-Robots-Tag:noindex
X-PUBLISHED-TTL:PT1H
BEGIN:VTIMEZONE
TZID:UTC
BEGIN:STANDARD
TZOFFSETFROM:+0000
TZOFFSETTO:+0000
TZNAME:UTC
DTSTART:20230101T000000
END:STANDARD
END:VTIMEZONE
BEGIN:VEVENT
DTSTART;TZID=UTC:20240502T160000
DTEND;TZID=UTC:20240502T180000
DTSTAMP:20260425T200423
CREATED:20240130T165045Z
LAST-MODIFIED:20240130T165309Z
UID:10000108-1714665600-1714672800@www.cypresslakescc.com
SUMMARY:Valero Golf League
DESCRIPTION:
URL:https://www.cypresslakescc.com/event/valero-golf-league/2024-05-02/
END:VEVENT
BEGIN:VEVENT
DTSTART;VALUE=DATE:20240506
DTEND;VALUE=DATE:20240507
DTSTAMP:20260425T200423
CREATED:20240417T191438Z
LAST-MODIFIED:20240417T191438Z
UID:10000133-1714953600-1715039999@www.cypresslakescc.com
SUMMARY:Greens Aerification
DESCRIPTION:
URL:https://www.cypresslakescc.com/event/greens-aerification/
END:VEVENT
BEGIN:VEVENT
DTSTART;TZID=UTC:20240509T160000
DTEND;TZID=UTC:20240509T180000
DTSTAMP:20260425T200423
CREATED:20240130T165045Z
LAST-MODIFIED:20240130T165309Z
UID:10000109-1715270400-1715277600@www.cypresslakescc.com
SUMMARY:Valero Golf League
DESCRIPTION:
URL:https://www.cypresslakescc.com/event/valero-golf-league/2024-05-09/
END:VEVENT
BEGIN:VEVENT
DTSTART;TZID=UTC:20240510T093000
DTEND;TZID=UTC:20240510T143000
DTSTAMP:20260425T200423
CREATED:20240501T170346Z
LAST-MODIFIED:20240501T170346Z
UID:10000134-1715333400-1715351400@www.cypresslakescc.com
SUMMARY:IIAGNO
DESCRIPTION:
URL:https://www.cypresslakescc.com/event/iiagno/
END:VEVENT
BEGIN:VEVENT
DTSTART;VALUE=DATE:20240513
DTEND;VALUE=DATE:20240514
DTSTAMP:20260425T200423
CREATED:20231214T170750Z
LAST-MODIFIED:20231214T170750Z
UID:10000090-1715558400-1715644799@www.cypresslakescc.com
SUMMARY:ABC BAYOU
DESCRIPTION:
URL:https://www.cypresslakescc.com/event/abc-bayou/
END:VEVENT
BEGIN:VEVENT
DTSTART;TZID=UTC:20240516T160000
DTEND;TZID=UTC:20240516T180000
DTSTAMP:20260425T200423
CREATED:20240130T165045Z
LAST-MODIFIED:20240130T165309Z
UID:10000110-1715875200-1715882400@www.cypresslakescc.com
SUMMARY:Valero Golf League
DESCRIPTION:
URL:https://www.cypresslakescc.com/event/valero-golf-league/2024-05-16/
END:VEVENT
BEGIN:VEVENT
DTSTART;TZID=UTC:20240519T083000
DTEND;TZID=UTC:20240519T130000
DTSTAMP:20260425T200423
CREATED:20240120T230008Z
LAST-MODIFIED:20240120T230008Z
UID:10000103-1716107400-1716123600@www.cypresslakescc.com
SUMMARY:Finn McCools
DESCRIPTION:
URL:https://www.cypresslakescc.com/event/finn-mccools-2/
END:VEVENT
BEGIN:VEVENT
DTSTART;TZID=UTC:20240523T160000
DTEND;TZID=UTC:20240523T180000
DTSTAMP:20260425T200423
CREATED:20240130T165045Z
LAST-MODIFIED:20240130T165309Z
UID:10000111-1716480000-1716487200@www.cypresslakescc.com
SUMMARY:Valero Golf League
DESCRIPTION:
URL:https://www.cypresslakescc.com/event/valero-golf-league/2024-05-23/
END:VEVENT
BEGIN:VEVENT
DTSTART;TZID=UTC:20240530T160000
DTEND;TZID=UTC:20240530T180000
DTSTAMP:20260425T200423
CREATED:20240130T165045Z
LAST-MODIFIED:20240130T165309Z
UID:10000112-1717084800-1717092000@www.cypresslakescc.com
SUMMARY:Valero Golf League
DESCRIPTION:
URL:https://www.cypresslakescc.com/event/valero-golf-league/2024-05-30/
END:VEVENT
END:VCALENDAR