BEGIN:VCALENDAR
VERSION:2.0
PRODID:-//Cypress Lakes CC at Ormond - ECPv6.15.18//NONSGML v1.0//EN
CALSCALE:GREGORIAN
METHOD:PUBLISH
X-WR-CALNAME:Cypress Lakes CC at Ormond
X-ORIGINAL-URL:https://www.cypresslakescc.com
X-WR-CALDESC:Events for Cypress Lakes CC at Ormond
REFRESH-INTERVAL;VALUE=DURATION:PT1H
X-Robots-Tag:noindex
X-PUBLISHED-TTL:PT1H
BEGIN:VTIMEZONE
TZID:UTC
BEGIN:STANDARD
TZOFFSETFROM:+0000
TZOFFSETTO:+0000
TZNAME:UTC
DTSTART:20230101T000000
END:STANDARD
END:VTIMEZONE
BEGIN:VEVENT
DTSTART;TZID=UTC:20240801T080000
DTEND;TZID=UTC:20240801T160000
DTSTAMP:20260425T153410
CREATED:20240223T185243Z
LAST-MODIFIED:20240223T185416Z
UID:10000125-1722499200-1722528000@www.cypresslakescc.com
SUMMARY:First Tee Summer Camp Week 2
DESCRIPTION:
URL:https://www.cypresslakescc.com/event/first-tee-summer-camp-week-2/2024-08-01/
END:VEVENT
BEGIN:VEVENT
DTSTART;TZID=UTC:20240802T080000
DTEND;TZID=UTC:20240802T160000
DTSTAMP:20260425T153410
CREATED:20240223T185243Z
LAST-MODIFIED:20240223T185416Z
UID:10000126-1722585600-1722614400@www.cypresslakescc.com
SUMMARY:First Tee Summer Camp Week 2
DESCRIPTION:
URL:https://www.cypresslakescc.com/event/first-tee-summer-camp-week-2/2024-08-02/
END:VEVENT
BEGIN:VEVENT
DTSTART;TZID=UTC:20240817T120000
DTEND;TZID=UTC:20240817T160000
DTSTAMP:20260425T153410
CREATED:20240806T162441Z
LAST-MODIFIED:20240806T162502Z
UID:10000143-1723896000-1723910400@www.cypresslakescc.com
SUMMARY:OCA Pool Party
DESCRIPTION:All Ormond residents are invited to Cypress Lakes Country Club on SATURDAY\, AUGUST 17th\, for a community Pool Party from 12pm-4pm. Meet members of both CLCC and OCA to learn about the positive changes taking place in your backyard and how you can be a part of it all.\n\n\nJoin us for swimming\, pickleball\, tennis and a very short OCA meeting at 1:00!Our councilmen Walter Pilie\, District 3 and Mike Mobley\, At-Large Division A will be there
URL:https://www.cypresslakescc.com/event/oca-pool-party/
END:VEVENT
BEGIN:VEVENT
DTSTART;VALUE=DATE:20240819
DTEND;VALUE=DATE:20240820
DTSTAMP:20260425T153410
CREATED:20240313T192534Z
LAST-MODIFIED:20240313T192534Z
UID:10000131-1724025600-1724111999@www.cypresslakescc.com
SUMMARY:NOGA
DESCRIPTION:
URL:https://www.cypresslakescc.com/event/noga-2/
END:VEVENT
END:VCALENDAR