BEGIN:VCALENDAR
VERSION:2.0
PRODID:-//Cypress Lakes CC at Ormond - ECPv6.15.18//NONSGML v1.0//EN
CALSCALE:GREGORIAN
METHOD:PUBLISH
X-WR-CALNAME:Cypress Lakes CC at Ormond
X-ORIGINAL-URL:https://www.cypresslakescc.com
X-WR-CALDESC:Events for Cypress Lakes CC at Ormond
REFRESH-INTERVAL;VALUE=DURATION:PT1H
X-Robots-Tag:noindex
X-PUBLISHED-TTL:PT1H
BEGIN:VTIMEZONE
TZID:UTC
BEGIN:STANDARD
TZOFFSETFROM:+0000
TZOFFSETTO:+0000
TZNAME:UTC
DTSTART:20230101T000000
END:STANDARD
END:VTIMEZONE
BEGIN:VEVENT
DTSTART;VALUE=DATE:20241102
DTEND;VALUE=DATE:20241104
DTSTAMP:20260423T004026
CREATED:20240130T165809Z
LAST-MODIFIED:20240730T202115Z
UID:10000119-1730505600-1730678399@www.cypresslakescc.com
SUMMARY:Member Guest
DESCRIPTION:
URL:https://www.cypresslakescc.com/event/member-guest/
END:VEVENT
BEGIN:VEVENT
DTSTART;VALUE=DATE:20241115
DTEND;VALUE=DATE:20241116
DTSTAMP:20260423T004026
CREATED:20240808T142501Z
LAST-MODIFIED:20240808T142508Z
UID:10000145-1731628800-1731715199@www.cypresslakescc.com
SUMMARY:United Rentals
DESCRIPTION:
URL:https://www.cypresslakescc.com/event/united-rentals/
END:VEVENT
BEGIN:VEVENT
DTSTART;TZID=UTC:20241116T083000
DTEND;TZID=UTC:20241116T133000
DTSTAMP:20260423T004026
CREATED:20231019T164144Z
LAST-MODIFIED:20241009T191729Z
UID:10000079-1731745800-1731763800@www.cypresslakescc.com
SUMMARY:Divots for Dogs
DESCRIPTION:
URL:https://www.cypresslakescc.com/event/divots-for-dogs-2/
END:VEVENT
BEGIN:VEVENT
DTSTART;VALUE=DATE:20241120
DTEND;VALUE=DATE:20241121
DTSTAMP:20260423T004026
CREATED:20240123T205559Z
LAST-MODIFIED:20240123T205559Z
UID:10000104-1732060800-1732147199@www.cypresslakescc.com
SUMMARY:LLSSA
DESCRIPTION:
URL:https://www.cypresslakescc.com/event/llssa-2/
END:VEVENT
BEGIN:VEVENT
DTSTART;VALUE=DATE:20241122
DTEND;VALUE=DATE:20241123
DTSTAMP:20260423T004026
CREATED:20240730T202028Z
LAST-MODIFIED:20240829T151628Z
UID:10000142-1732233600-1732319999@www.cypresslakescc.com
SUMMARY:Entergy Golf Tournament
DESCRIPTION:
URL:https://www.cypresslakescc.com/event/entergy-golf-tournament/
END:VEVENT
BEGIN:VEVENT
DTSTART;VALUE=DATE:20241125
DTEND;VALUE=DATE:20241127
DTSTAMP:20260423T004026
CREATED:20241105T202228Z
LAST-MODIFIED:20241105T202228Z
UID:10000152-1732492800-1732665599@www.cypresslakescc.com
SUMMARY:FIRST TEE GUMBO CUP
DESCRIPTION:
URL:https://www.cypresslakescc.com/event/first-tee-gumbo-cup/
END:VEVENT
END:VCALENDAR