BEGIN:VCALENDAR
VERSION:2.0
PRODID:-//Cypress Lakes CC at Ormond - ECPv6.15.18//NONSGML v1.0//EN
CALSCALE:GREGORIAN
METHOD:PUBLISH
X-ORIGINAL-URL:https://www.cypresslakescc.com
X-WR-CALDESC:Events for Cypress Lakes CC at Ormond
REFRESH-INTERVAL;VALUE=DURATION:PT1H
X-Robots-Tag:noindex
X-PUBLISHED-TTL:PT1H
BEGIN:VTIMEZONE
TZID:UTC
BEGIN:STANDARD
TZOFFSETFROM:+0000
TZOFFSETTO:+0000
TZNAME:UTC
DTSTART:20230101T000000
END:STANDARD
END:VTIMEZONE
BEGIN:VEVENT
DTSTART;TZID=UTC:20241206T080000
DTEND;TZID=UTC:20241206T130000
DTSTAMP:20260422T231049
CREATED:20240808T142440Z
LAST-MODIFIED:20240924T202727Z
UID:10000144-1733472000-1733490000@www.cypresslakescc.com
SUMMARY:OxyChem Outing
DESCRIPTION:
URL:https://www.cypresslakescc.com/event/oxychem-outing/
END:VEVENT
BEGIN:VEVENT
DTSTART;VALUE=DATE:20241221
DTEND;VALUE=DATE:20241222
DTSTAMP:20260422T231049
CREATED:20240130T165836Z
LAST-MODIFIED:20241210T220006Z
UID:10000120-1734739200-1734825599@www.cypresslakescc.com
SUMMARY:6-6-6 Tournament
DESCRIPTION:SIGN UP HERE
URL:https://www.cypresslakescc.com/event/6-6-6-tournament/
END:VEVENT
BEGIN:VEVENT
DTSTART;TZID=UTC:20241222T080000
DTEND;TZID=UTC:20241222T100000
DTSTAMP:20260422T231049
CREATED:20240522T143207Z
LAST-MODIFIED:20240522T143207Z
UID:10000136-1734854400-1734861600@www.cypresslakescc.com
SUMMARY:Weekenders Golf Club
DESCRIPTION:
URL:https://www.cypresslakescc.com/event/weekenders-golf-club/
END:VEVENT
END:VCALENDAR