BEGIN:VCALENDAR
VERSION:2.0
PRODID:-//Cypress Lakes CC at Ormond - ECPv6.15.18//NONSGML v1.0//EN
CALSCALE:GREGORIAN
METHOD:PUBLISH
X-WR-CALNAME:Cypress Lakes CC at Ormond
X-ORIGINAL-URL:https://www.cypresslakescc.com
X-WR-CALDESC:Events for Cypress Lakes CC at Ormond
REFRESH-INTERVAL;VALUE=DURATION:PT1H
X-Robots-Tag:noindex
X-PUBLISHED-TTL:PT1H
BEGIN:VTIMEZONE
TZID:UTC
BEGIN:STANDARD
TZOFFSETFROM:+0000
TZOFFSETTO:+0000
TZNAME:UTC
DTSTART:20240101T000000
END:STANDARD
END:VTIMEZONE
BEGIN:VEVENT
DTSTART;VALUE=DATE:20250603
DTEND;VALUE=DATE:20250607
DTSTAMP:20260422T020729
CREATED:20241217T001922Z
LAST-MODIFIED:20241217T001922Z
UID:10000165-1748908800-1749254399@www.cypresslakescc.com
SUMMARY:First Tee Summer Camp - Week 1
DESCRIPTION:
URL:https://www.cypresslakescc.com/event/first-tee-summer-camp-week-1-2/
END:VEVENT
BEGIN:VEVENT
DTSTART;VALUE=DATE:20250607
DTEND;VALUE=DATE:20250608
DTSTAMP:20260422T020729
CREATED:20250307T152114Z
LAST-MODIFIED:20250513T144743Z
UID:10000187-1749254400-1749340799@www.cypresslakescc.com
SUMMARY:Laitram Golf Tournament
DESCRIPTION:
URL:https://www.cypresslakescc.com/event/laitram-golf-tournament/
END:VEVENT
BEGIN:VEVENT
DTSTART;VALUE=DATE:20250618
DTEND;VALUE=DATE:20250619
DTSTAMP:20260422T020729
CREATED:20250429T200435Z
LAST-MODIFIED:20250616T203146Z
UID:10000194-1750204800-1750291199@www.cypresslakescc.com
SUMMARY:Swim Meet - Home
DESCRIPTION:
URL:https://www.cypresslakescc.com/event/swim-meet-home/2025-06-18/
END:VEVENT
BEGIN:VEVENT
DTSTART;VALUE=DATE:20250625
DTEND;VALUE=DATE:20250626
DTSTAMP:20260422T020729
CREATED:20250429T200435Z
LAST-MODIFIED:20250616T203146Z
UID:10000198-1750838400-1750870800@www.cypresslakescc.com
SUMMARY:Swim Meet - Home
DESCRIPTION:
URL:https://www.cypresslakescc.com/event/swim-meet-home/2025-06-25/
END:VEVENT
END:VCALENDAR