BEGIN:VCALENDAR
VERSION:2.0
PRODID:-//Cypress Lakes CC at Ormond - ECPv6.15.18//NONSGML v1.0//EN
CALSCALE:GREGORIAN
METHOD:PUBLISH
X-WR-CALNAME:Cypress Lakes CC at Ormond
X-ORIGINAL-URL:https://www.cypresslakescc.com
X-WR-CALDESC:Events for Cypress Lakes CC at Ormond
REFRESH-INTERVAL;VALUE=DURATION:PT1H
X-Robots-Tag:noindex
X-PUBLISHED-TTL:PT1H
BEGIN:VTIMEZONE
TZID:UTC
BEGIN:STANDARD
TZOFFSETFROM:+0000
TZOFFSETTO:+0000
TZNAME:UTC
DTSTART:20240101T000000
END:STANDARD
END:VTIMEZONE
BEGIN:VEVENT
DTSTART;VALUE=DATE:20251003
DTEND;VALUE=DATE:20251004
DTSTAMP:20260421T190934
CREATED:20231019T190855Z
LAST-MODIFIED:20241012T022934Z
UID:10000083-1759449600-1759535999@www.cypresslakescc.com
SUMMARY:GCSC
DESCRIPTION:
URL:https://www.cypresslakescc.com/event/gcsc-2/
END:VEVENT
BEGIN:VEVENT
DTSTART;VALUE=DATE:20251004
DTEND;VALUE=DATE:20251005
DTSTAMP:20260421T190934
CREATED:20250225T212814Z
LAST-MODIFIED:20250225T212814Z
UID:10000185-1759536000-1759622399@www.cypresslakescc.com
SUMMARY:SLAGS Championship
DESCRIPTION:
URL:https://www.cypresslakescc.com/event/slags-championship/2025-10-04/
END:VEVENT
BEGIN:VEVENT
DTSTART;TZID=UTC:20251004T080000
DTEND;TZID=UTC:20251004T133000
DTSTAMP:20260421T190934
CREATED:20241204T012027Z
LAST-MODIFIED:20241204T012027Z
UID:10000156-1759564800-1759584600@www.cypresslakescc.com
SUMMARY:Divots for Dogs
DESCRIPTION:
URL:https://www.cypresslakescc.com/event/divots-for-dogs/
END:VEVENT
BEGIN:VEVENT
DTSTART;VALUE=DATE:20251005
DTEND;VALUE=DATE:20251006
DTSTAMP:20260421T190934
CREATED:20250225T212814Z
LAST-MODIFIED:20250225T212814Z
UID:10000186-1759651200-1759667400@www.cypresslakescc.com
SUMMARY:SLAGS Championship
DESCRIPTION:
URL:https://www.cypresslakescc.com/event/slags-championship/2025-10-05/
END:VEVENT
BEGIN:VEVENT
DTSTART;VALUE=DATE:20251008
DTEND;VALUE=DATE:20251009
DTSTAMP:20260421T190934
CREATED:20250802T202237Z
LAST-MODIFIED:20250819T161553Z
UID:10000202-1759881600-1759967999@www.cypresslakescc.com
SUMMARY:NOWGA
DESCRIPTION:
URL:https://www.cypresslakescc.com/event/nowga/
END:VEVENT
BEGIN:VEVENT
DTSTART;VALUE=DATE:20251010
DTEND;VALUE=DATE:20251011
DTSTAMP:20260421T190934
CREATED:20231019T184823Z
LAST-MODIFIED:20241029T165306Z
UID:10000082-1760054400-1760140799@www.cypresslakescc.com
SUMMARY:DHS Baseball/Softball
DESCRIPTION:
URL:https://www.cypresslakescc.com/event/dhs-baseball-softball-2/
END:VEVENT
BEGIN:VEVENT
DTSTART;VALUE=DATE:20251015
DTEND;VALUE=DATE:20251016
DTSTAMP:20260421T190934
CREATED:20241029T165355Z
LAST-MODIFIED:20241029T165355Z
UID:10000150-1760486400-1760572799@www.cypresslakescc.com
SUMMARY:All Star Foundation
DESCRIPTION:
URL:https://www.cypresslakescc.com/event/all-star-foundation-3/
END:VEVENT
BEGIN:VEVENT
DTSTART;VALUE=DATE:20251016
DTEND;VALUE=DATE:20251017
DTSTAMP:20260421T190934
CREATED:20250708T203836Z
LAST-MODIFIED:20250708T204003Z
UID:10000201-1760572800-1760659199@www.cypresslakescc.com
SUMMARY:GNOBFA Golf Tournament
DESCRIPTION:
URL:https://www.cypresslakescc.com/event/canal-barge/
END:VEVENT
BEGIN:VEVENT
DTSTART;VALUE=DATE:20251017
DTEND;VALUE=DATE:20251018
DTSTAMP:20260421T190934
CREATED:20241029T165331Z
LAST-MODIFIED:20241029T165331Z
UID:10000149-1760659200-1760745599@www.cypresslakescc.com
SUMMARY:SCB
DESCRIPTION:
URL:https://www.cypresslakescc.com/event/scb/
END:VEVENT
BEGIN:VEVENT
DTSTART;VALUE=DATE:20251024
DTEND;VALUE=DATE:20251025
DTSTAMP:20260421T190934
CREATED:20250916T210039Z
LAST-MODIFIED:20250916T210039Z
UID:10000207-1761264000-1761350399@www.cypresslakescc.com
SUMMARY:EANO
DESCRIPTION:
URL:https://www.cypresslakescc.com/event/eano-2/
END:VEVENT
BEGIN:VEVENT
DTSTART;TZID=UTC:20251029T143000
DTEND;TZID=UTC:20251029T170000
DTSTAMP:20260421T190934
CREATED:20251023T203035Z
LAST-MODIFIED:20251023T203035Z
UID:10000217-1761748200-1761757200@www.cypresslakescc.com
SUMMARY:District Cross Country Meet - Front 9 Closed
DESCRIPTION:
URL:https://www.cypresslakescc.com/event/district-cross-country-meet-front-9-closed/
END:VEVENT
BEGIN:VEVENT
DTSTART;VALUE=DATE:20251030
DTEND;VALUE=DATE:20251031
DTSTAMP:20260421T190934
CREATED:20250826T185721Z
LAST-MODIFIED:20250826T185721Z
UID:10000205-1761782400-1761868799@www.cypresslakescc.com
SUMMARY:NUSTAR
DESCRIPTION:
URL:https://www.cypresslakescc.com/event/nustar/
END:VEVENT
BEGIN:VEVENT
DTSTART;VALUE=DATE:20251031
DTEND;VALUE=DATE:20251101
DTSTAMP:20260421T190934
CREATED:20250708T203710Z
LAST-MODIFIED:20250710T164025Z
UID:10000200-1761868800-1761955199@www.cypresslakescc.com
SUMMARY:LEGENDS OF THE FALL CLASSIC
DESCRIPTION:
URL:https://www.cypresslakescc.com/event/deep-tournament/
END:VEVENT
END:VCALENDAR