BEGIN:VCALENDAR
VERSION:2.0
PRODID:-//Cypress Lakes CC at Ormond - ECPv6.15.18//NONSGML v1.0//EN
CALSCALE:GREGORIAN
METHOD:PUBLISH
X-WR-CALNAME:Cypress Lakes CC at Ormond
X-ORIGINAL-URL:https://www.cypresslakescc.com
X-WR-CALDESC:Events for Cypress Lakes CC at Ormond
REFRESH-INTERVAL;VALUE=DURATION:PT1H
X-Robots-Tag:noindex
X-PUBLISHED-TTL:PT1H
BEGIN:VTIMEZONE
TZID:UTC
BEGIN:STANDARD
TZOFFSETFROM:+0000
TZOFFSETTO:+0000
TZNAME:UTC
DTSTART:20250101T000000
END:STANDARD
END:VTIMEZONE
BEGIN:VEVENT
DTSTART;TZID=UTC:20260925T080000
DTEND;TZID=UTC:20260925T170000
DTSTAMP:20260423T151207
CREATED:20251023T151421Z
LAST-MODIFIED:20260401T161714Z
UID:10000214-1790323200-1790355600@www.cypresslakescc.com
SUMMARY:SCB
DESCRIPTION:
URL:https://www.cypresslakescc.com/event/scb-2/
END:VEVENT
BEGIN:VEVENT
DTSTART;VALUE=DATE:20260926
DTEND;VALUE=DATE:20260927
DTSTAMP:20260423T151207
CREATED:20251023T151338Z
LAST-MODIFIED:20251023T151338Z
UID:10000212-1790380800-1790467199@www.cypresslakescc.com
SUMMARY:2nd Annual River Cup
DESCRIPTION:
URL:https://www.cypresslakescc.com/event/2nd-annual-river-cup/
END:VEVENT
END:VCALENDAR